BEGIN:VCALENDAR
VERSION:2.0
PRODID:-//www.musikschule-moehlin.ch//NONSGML kigkonsult.se iCalcreator 2.2
 2//
CALSCALE:GREGORIAN
METHOD:PUBLISH
X-WR-TIMEZONE:Europe/Berlin
BEGIN:VEVENT
UID:20260422T180029CEST-87273kFC3B@www.musikschule-moehlin.ch
DTSTAMP:20260422T160029Z
DESCRIPTION:Klicken Sie auf den folgenden Link\, um weitere Informationen z
 ur Veranstaltung zu erhalten:\nhttp://www.musikschule-moehlin.ch/musikschu
 le/veranstaltungen/detail/detail.php?i=461
DTSTART:20260623T170000
LOCATION:Aula Storebode
SUMMARY:Schülerkonzert mit der Trompetenklasse von A. Meier
END:VEVENT
END:VCALENDAR
