BEGIN:VCALENDAR
VERSION:2.0
PRODID:-//www.musikschule-moehlin.ch//NONSGML kigkonsult.se iCalcreator 2.2
 2//
CALSCALE:GREGORIAN
METHOD:PUBLISH
X-WR-TIMEZONE:Europe/Berlin
BEGIN:VEVENT
UID:20260422T162354CEST-4939V2vc0f@www.musikschule-moehlin.ch
DTSTAMP:20260422T142354Z
DESCRIPTION:Klicken Sie auf den folgenden Link\, um weitere Informationen z
 ur Veranstaltung zu erhalten:\nhttp://www.musikschule-moehlin.ch/musikschu
 le/veranstaltungen/detail/detail.php?i=460
DTSTART:20260501T170000
LOCATION:
SUMMARY:Schülerkonzert mit der Blockflötenklasse von I. Garnier
END:VEVENT
END:VCALENDAR
