BEGIN:VCALENDAR
VERSION:2.0
PRODID:-//www.musikschule-moehlin.ch//NONSGML kigkonsult.se iCalcreator 2.2
 2//
CALSCALE:GREGORIAN
METHOD:PUBLISH
X-WR-TIMEZONE:Europe/Berlin
BEGIN:VEVENT
UID:20260422T175924CEST-8451VkLv7j@www.musikschule-moehlin.ch
DTSTAMP:20260422T155924Z
DESCRIPTION:Klicken Sie auf den folgenden Link\, um weitere Informationen z
 ur Veranstaltung zu erhalten:\nhttp://www.musikschule-moehlin.ch/musikschu
 le/veranstaltungen/detail/detail.php?i=458
DTSTART:20260622T183000
LOCATION:Aula Fuchsrain B
SUMMARY:Schülerkonzert mit der Gesangsklasse von K. Haverbeck
END:VEVENT
END:VCALENDAR
